BEGIN:VCALENDAR
VERSION:2.0
PRODID:-//Centro de Investigación y Creación - Facultad de Artes y Humanidades - Universidad de los Andes
CALSCALE:GREGORIAN
METHOD:PUBLISH
X-WR-CALNAME:Centro de Investigación y Creación - Facultad de Artes y Humanidades - Universidad de los Andes
X-ORIGINAL-URL:https://cic.uniandes.edu.co/evento/resistencia-elastica-maria-isabel-vargas-en-la-galeria/
X-WR-CALDESC:Resistencia elástica, María Isabel Vargas en LA galería
BEGIN:VEVENT
DTSTART:20240413T100000
DTEND:20240509T180000
SUMMARY:Resistencia elástica, María Isabel Vargas en LA galería
DESCRIPTION:Del 13 de abril al 9 de mayo de 2024
LOCATION:La Galería, calle 77 # 12-03 Bogotá, Colombia 
END:VEVENT
END:VCALENDAR
