BEGIN:VCALENDAR
VERSION:2.0
PRODID:-//Centro de Investigación y Creación - Facultad de Artes y Humanidades - Universidad de los Andes
CALSCALE:GREGORIAN
METHOD:PUBLISH
X-WR-CALNAME:Centro de Investigación y Creación - Facultad de Artes y Humanidades - Universidad de los Andes
X-ORIGINAL-URL:https://cic.uniandes.edu.co/evento/presentacion-del-proyecto-de-humanidades-digitales-inventar-colombia-una-mirada-desde-el-orinoco/
X-WR-CALDESC:Presentación del proyecto de humanidades digitales: Inventar Colombia: una mirada desde el Orinoco
BEGIN:VEVENT
DTSTART:20240524T120000
DTEND:20240524T140000
SUMMARY:Presentación del proyecto de humanidades digitales: Inventar Colombia: una mirada desde el Orinoco
DESCRIPTION:24 de mayo, 2024 | Hora: 12:00pm (hora de Colombia)

LOCATION:Evento en línea
END:VEVENT
END:VCALENDAR
