BEGIN:VCALENDAR
VERSION:2.0
PRODID:-//Centro de Investigación y Creación - Facultad de Artes y Humanidades - Universidad de los Andes
CALSCALE:GREGORIAN
METHOD:PUBLISH
X-WR-CALNAME:Centro de Investigación y Creación - Facultad de Artes y Humanidades - Universidad de los Andes
X-ORIGINAL-URL:https://cic.uniandes.edu.co/evento/conversatorio-perifrasis-revista-de-literatura-teoria-y-critica-no-32/
X-WR-CALDESC:Conversatorio Perífrasis. Revista de Literatura, Teoría y Crítica (No. 32) «He mirado el mar de mis costas»
BEGIN:VEVENT
DTSTART:20240612T160000
DTEND:20240612T173000
SUMMARY:Conversatorio Perífrasis. Revista de Literatura, Teoría y Crítica (No. 32) «He mirado el mar de mis costas»
DESCRIPTION:Miércoles 12 de junio | 4: 00 p.m  | En línea
LOCATION:Evento en línea
END:VEVENT
END:VCALENDAR
