BEGIN:VCALENDAR
VERSION:2.0
PRODID:-//Centro de Investigación y Creación - Facultad de Artes y Humanidades - Universidad de los Andes
CALSCALE:GREGORIAN
METHOD:PUBLISH
X-WR-CALNAME:Centro de Investigación y Creación - Facultad de Artes y Humanidades - Universidad de los Andes
X-ORIGINAL-URL:https://cic.uniandes.edu.co/evento/encuentros-cic-de-artes-y-humanidades-2024-2/
X-WR-CALDESC:Evento Cancelado | Encuentros CIC de Artes y Humanidades 2024-2
BEGIN:VEVENT
DTSTART:20240904T123000
DTEND:20190509T140000
SUMMARY:Evento Cancelado | Encuentros CIC de Artes y Humanidades 2024-2
DESCRIPTION:Es un espacio de divulgación de la investigación y la creación de nuestros profesores y estudiantes. Miércoles 4 de septiembre, de 12:30 pm. a 2:00 p.m.
LOCATION:Sala Luis Caballero, Bloque k, segundo piso  Universidad de los Andes, Bogotá.
END:VEVENT
END:VCALENDAR
