BEGIN:VCALENDAR
VERSION:2.0
PRODID:-//Centro de Investigación y Creación - Facultad de Artes y Humanidades - Universidad de los Andes
CALSCALE:GREGORIAN
METHOD:PUBLISH
X-WR-CALNAME:Centro de Investigación y Creación - Facultad de Artes y Humanidades - Universidad de los Andes
X-ORIGINAL-URL:https://cic.uniandes.edu.co/evento/encuentros-cic-2/
X-WR-CALDESC:Encuentros CIC
BEGIN:VEVENT
DTSTART:20240925T123000
DTEND:20240925T140000
SUMMARY:Encuentros CIC
DESCRIPTION:Miércoles 25 de septiembre | 12:30 p.m. a 2:00 p.m.
LOCATION:
END:VEVENT
END:VCALENDAR
