BEGIN:VCALENDAR
VERSION:2.0
PRODID:-//Centro de Investigación y Creación - Facultad de Artes y Humanidades - Universidad de los Andes
CALSCALE:GREGORIAN
METHOD:PUBLISH
X-WR-CALNAME:Centro de Investigación y Creación - Facultad de Artes y Humanidades - Universidad de los Andes
X-ORIGINAL-URL:https://cic.uniandes.edu.co/evento/la-creme-de-la-creme/
X-WR-CALDESC:La créme de la créme
BEGIN:VEVENT
DTSTART:20180914T173000
DTEND:
SUMMARY:La créme de la créme
DESCRIPTION:
LOCATION:Museo de Arte Miguel Urrutia
END:VEVENT
END:VCALENDAR
