BEGIN:VCALENDAR
VERSION:2.0
PRODID:-//Centro de Investigación y Creación - Facultad de Artes y Humanidades - Universidad de los Andes
CALSCALE:GREGORIAN
METHOD:PUBLISH
X-WR-CALNAME:Centro de Investigación y Creación - Facultad de Artes y Humanidades - Universidad de los Andes
X-ORIGINAL-URL:https://cic.uniandes.edu.co/evento/caminar-por-el-campo/
X-WR-CALDESC:Inauguración exposición Caminar por el campo
BEGIN:VEVENT
DTSTART:20180911T173000
DTEND:
SUMMARY:Inauguración exposición Caminar por el campo
DESCRIPTION:
LOCATION:Centro de Memoria, Paz y Reconciliación.
END:VEVENT
END:VCALENDAR
