BEGIN:VCALENDAR
VERSION:2.0
PRODID:-//Centro de Investigación y Creación - Facultad de Artes y Humanidades - Universidad de los Andes
CALSCALE:GREGORIAN
METHOD:PUBLISH
X-WR-CALNAME:Centro de Investigación y Creación - Facultad de Artes y Humanidades - Universidad de los Andes
X-ORIGINAL-URL:https://cic.uniandes.edu.co/evento/taller-situaciones-de-hospitalid/
X-WR-CALDESC:Taller situaciones de hospitalidad en el marco de la exposición Por las galerías
BEGIN:VEVENT
DTSTART:20180829T143000
DTEND:20180829T183000
SUMMARY:Taller situaciones de hospitalidad en el marco de la exposición Por las galerías
DESCRIPTION:
LOCATION:Museo de Arte Miguel Urrutia
END:VEVENT
END:VCALENDAR
