BEGIN:VCALENDAR
VERSION:2.0
PRODID:-//Centro de Investigación y Creación - Facultad de Artes y Humanidades - Universidad de los Andes
CALSCALE:GREGORIAN
METHOD:PUBLISH
X-WR-CALNAME:Centro de Investigación y Creación - Facultad de Artes y Humanidades - Universidad de los Andes
X-ORIGINAL-URL:https://cic.uniandes.edu.co/evento/taller-circuitos-de-exhibicion/
X-WR-CALDESC:Taller circuitos de exhibición en el marco de la exposición Por las galerías
BEGIN:VEVENT
DTSTART:20180823T143000
DTEND:20180823T183000
SUMMARY:Taller circuitos de exhibición en el marco de la exposición Por las galerías
DESCRIPTION:
LOCATION:Museo de Arte Miguel Urrutia
END:VEVENT
END:VCALENDAR
