BEGIN:VCALENDAR
VERSION:2.0
PRODID:-//Centro de Investigación y Creación - Facultad de Artes y Humanidades - Universidad de los Andes
CALSCALE:GREGORIAN
METHOD:PUBLISH
X-WR-CALNAME:Centro de Investigación y Creación - Facultad de Artes y Humanidades - Universidad de los Andes
X-ORIGINAL-URL:https://cic.uniandes.edu.co/evento/1ra-jornada-de-la-red-ilia/
X-WR-CALDESC:1ra jornada de la Red ILIA
BEGIN:VEVENT
DTSTART:20181029T000000
DTEND:20181031T000000
SUMMARY:1ra jornada de la Red ILIA
DESCRIPTION:
LOCATION:Universidad de los Andes, Colombia
END:VEVENT
END:VCALENDAR
