BEGIN:VCALENDAR
VERSION:2.0
PRODID:-//Centro de Investigación y Creación - Facultad de Artes y Humanidades - Universidad de los Andes
CALSCALE:GREGORIAN
METHOD:PUBLISH
X-WR-CALNAME:Centro de Investigación y Creación - Facultad de Artes y Humanidades - Universidad de los Andes
X-ORIGINAL-URL:https://cic.uniandes.edu.co/evento/asamblea-general-de-la-asociacion-de-facultades-y-programas-de-artes-de-colombia-acofartes/
X-WR-CALDESC:Asamblea General de la Asociación de facultades y programas de artes de Colombia (AcoFartes)
BEGIN:VEVENT
DTSTART:20181115T000000
DTEND:20181116T000000
SUMMARY:Asamblea General de la Asociación de facultades y programas de artes de Colombia (AcoFartes)
DESCRIPTION:
LOCATION:Universidad de los Andes, Colombia
END:VEVENT
END:VCALENDAR
