BEGIN:VCALENDAR
VERSION:2.0
PRODID:-//Centro de Investigación y Creación - Facultad de Artes y Humanidades - Universidad de los Andes
CALSCALE:GREGORIAN
METHOD:PUBLISH
X-WR-CALNAME:Centro de Investigación y Creación - Facultad de Artes y Humanidades - Universidad de los Andes
X-ORIGINAL-URL:https://cic.uniandes.edu.co/evento/piedra-tijera-papel/
X-WR-CALDESC:Conversatorio Piedra, tijera, papel: una mirada a la historia del diseño gráfico en Colombia
BEGIN:VEVENT
DTSTART:20190226T110000
DTEND:20190226T123000
SUMMARY:Conversatorio Piedra, tijera, papel: una mirada a la historia del diseño gráfico en Colombia
DESCRIPTION:
LOCATION:Salón 205, Edificio S1, Universidad de los Andes
END:VEVENT
END:VCALENDAR
