BEGIN:VCALENDAR
VERSION:2.0
PRODID:-//Centro de Investigación y Creación - Facultad de Artes y Humanidades - Universidad de los Andes
CALSCALE:GREGORIAN
METHOD:PUBLISH
X-WR-CALNAME:Centro de Investigación y Creación - Facultad de Artes y Humanidades - Universidad de los Andes
X-ORIGINAL-URL:https://cic.uniandes.edu.co/evento/pinta-el-barrio/
X-WR-CALDESC:Pinta el barrio
BEGIN:VEVENT
DTSTART:20190226T153000
DTEND:20190226T180000
SUMMARY:Pinta el barrio
DESCRIPTION:
LOCATION:Contenedor de Fenicia, Universidad de los Andes
END:VEVENT
END:VCALENDAR
