BEGIN:VCALENDAR
VERSION:2.0
PRODID:-//Centro de Investigación y Creación - Facultad de Artes y Humanidades - Universidad de los Andes
CALSCALE:GREGORIAN
METHOD:PUBLISH
X-WR-CALNAME:Centro de Investigación y Creación - Facultad de Artes y Humanidades - Universidad de los Andes
X-ORIGINAL-URL:https://cic.uniandes.edu.co/evento/inauguracion-cienaga-de-oro/
X-WR-CALDESC:Inauguración Exposición &#8211; Ciénaga de Oro: creación y tradición
BEGIN:VEVENT
DTSTART:20190226T180000
DTEND:20190226T200000
SUMMARY:Inauguración Exposición &#8211; Ciénaga de Oro: creación y tradición
DESCRIPTION:
LOCATION:Sala de exposiciones Edificio Julio Mario Santo Domingo, Universidad de los Andes
END:VEVENT
END:VCALENDAR
