BEGIN:VCALENDAR
VERSION:2.0
PRODID:-//Centro de Investigación y Creación - Facultad de Artes y Humanidades - Universidad de los Andes
CALSCALE:GREGORIAN
METHOD:PUBLISH
X-WR-CALNAME:Centro de Investigación y Creación - Facultad de Artes y Humanidades - Universidad de los Andes
X-ORIGINAL-URL:https://cic.uniandes.edu.co/evento/aportes-del-arte-dramatico/
X-WR-CALDESC:Aportes del arte dramático a la Política del recuerdo, a partir del análisis de tres dramaturgias contemporáneas
BEGIN:VEVENT
DTSTART:20190227T120000
DTEND:20190227T130000
SUMMARY:Aportes del arte dramático a la Política del recuerdo, a partir del análisis de tres dramaturgias contemporáneas
DESCRIPTION:
LOCATION:Salón Tx 402, Universidad de los Andes
END:VEVENT
END:VCALENDAR
