BEGIN:VCALENDAR
VERSION:2.0
PRODID:-//Centro de Investigación y Creación - Facultad de Artes y Humanidades - Universidad de los Andes
CALSCALE:GREGORIAN
METHOD:PUBLISH
X-WR-CALNAME:Centro de Investigación y Creación - Facultad de Artes y Humanidades - Universidad de los Andes
X-ORIGINAL-URL:https://cic.uniandes.edu.co/evento/ensamble-jazz-2/
X-WR-CALDESC:Concierto Ensamble de Jazz, Óscar Acevedo
BEGIN:VEVENT
DTSTART:20190227T183000
DTEND:20190227T190000
SUMMARY:Concierto Ensamble de Jazz, Óscar Acevedo
DESCRIPTION:
LOCATION:Sala de música Ernesto Martín (V 101), Universidad de los Andes
END:VEVENT
END:VCALENDAR
