BEGIN:VCALENDAR
VERSION:2.0
PRODID:-//Centro de Investigación y Creación - Facultad de Artes y Humanidades - Universidad de los Andes
CALSCALE:GREGORIAN
METHOD:PUBLISH
X-WR-CALNAME:Centro de Investigación y Creación - Facultad de Artes y Humanidades - Universidad de los Andes
X-ORIGINAL-URL:https://cic.uniandes.edu.co/evento/estudiantes-jazz/
X-WR-CALDESC:Cancelado: concierto Ensamble de jazz, a cargo de Adrián Herrera
BEGIN:VEVENT
DTSTART:20190228T160000
DTEND:20190228T173000
SUMMARY:Cancelado: concierto Ensamble de jazz, a cargo de Adrián Herrera
DESCRIPTION:
LOCATION:El Campito, Universidad de los Andes
END:VEVENT
END:VCALENDAR
