BEGIN:VCALENDAR
VERSION:2.0
PRODID:-//Centro de Investigación y Creación - Facultad de Artes y Humanidades - Universidad de los Andes
CALSCALE:GREGORIAN
METHOD:PUBLISH
X-WR-CALNAME:Centro de Investigación y Creación - Facultad de Artes y Humanidades - Universidad de los Andes
X-ORIGINAL-URL:https://cic.uniandes.edu.co/evento/raku-20191/
X-WR-CALDESC:Quema experimental Rakú
BEGIN:VEVENT
DTSTART:20190301T080000
DTEND:20190301T140000
SUMMARY:Quema experimental Rakú
DESCRIPTION:
LOCATION:Plazoleta Lleras, Universidad de los Andes
END:VEVENT
END:VCALENDAR
