BEGIN:VCALENDAR
VERSION:2.0
PRODID:-//Centro de Investigación y Creación - Facultad de Artes y Humanidades - Universidad de los Andes
CALSCALE:GREGORIAN
METHOD:PUBLISH
X-WR-CALNAME:Centro de Investigación y Creación - Facultad de Artes y Humanidades - Universidad de los Andes
X-ORIGINAL-URL:https://cic.uniandes.edu.co/evento/talla-en-madera/
X-WR-CALDESC:Encuentro taller de talla en madera | Exposición Ciénaga de Oro
BEGIN:VEVENT
DTSTART:20190226T140000
DTEND:20190226T170000
SUMMARY:Encuentro taller de talla en madera | Exposición Ciénaga de Oro
DESCRIPTION:
LOCATION:Salón 302, Edificio S1, Universidad de los Andes
END:VEVENT
END:VCALENDAR
