BEGIN:VCALENDAR
VERSION:2.0
PRODID:-//Centro de Investigación y Creación - Facultad de Artes y Humanidades - Universidad de los Andes
CALSCALE:GREGORIAN
METHOD:PUBLISH
X-WR-CALNAME:Centro de Investigación y Creación - Facultad de Artes y Humanidades - Universidad de los Andes
X-ORIGINAL-URL:https://cic.uniandes.edu.co/evento/conversatorio-semana-santa-cienaga-de-oro/
X-WR-CALDESC:Conversatorio Fe, arte, tradición. La Salvaguardia de la Semana Santa en Ciénaga de Oro
BEGIN:VEVENT
DTSTART:20190227T100000
DTEND:20190227T120000
SUMMARY:Conversatorio Fe, arte, tradición. La Salvaguardia de la Semana Santa en Ciénaga de Oro
DESCRIPTION:Participan: Silvio Burgos,  Junta Cívica Pro Semana Santa Ciénaga de Oro Luis Fernando Arenas,  Ministerio de Cultura Eduardo Mazuera, profesor asociado del Departamento de Arquitectura David Cohen, profesor de cátedra del Departamento de Arte
LOCATION:Salón 205, Bloque S1, Universidad de los Andes
END:VEVENT
END:VCALENDAR
