BEGIN:VCALENDAR
VERSION:2.0
PRODID:-//Centro de Investigación y Creación - Facultad de Artes y Humanidades - Universidad de los Andes
CALSCALE:GREGORIAN
METHOD:PUBLISH
X-WR-CALNAME:Centro de Investigación y Creación - Facultad de Artes y Humanidades - Universidad de los Andes
X-ORIGINAL-URL:https://cic.uniandes.edu.co/evento/iconografia-en-tradicion/
X-WR-CALDESC:Visita guiada: La iconografía en la tradición | Exposición Ciénaga de Oro
BEGIN:VEVENT
DTSTART:20190227T140000
DTEND:20190227T150000
SUMMARY:Visita guiada: La iconografía en la tradición | Exposición Ciénaga de Oro
DESCRIPTION:
LOCATION:Sala de Exposiciones, Edificio Julio Mario Santo Domingo, Universidad de los Andes
END:VEVENT
END:VCALENDAR
