BEGIN:VCALENDAR
VERSION:2.0
PRODID:-//Centro de Investigación y Creación - Facultad de Artes y Humanidades - Universidad de los Andes
CALSCALE:GREGORIAN
METHOD:PUBLISH
X-WR-CALNAME:Centro de Investigación y Creación - Facultad de Artes y Humanidades - Universidad de los Andes
X-ORIGINAL-URL:https://cic.uniandes.edu.co/evento/remanente/
X-WR-CALDESC:Lanzamiento de Remanente | Exposición Ciénaga de Oro
BEGIN:VEVENT
DTSTART:20190301T170000
DTEND:20190301T183000
SUMMARY:Lanzamiento de Remanente | Exposición Ciénaga de Oro
DESCRIPTION:Desde el 2017 con el apoyo y compromiso del Ministerio de Cultura, La Facultad de Artes y Humanidades colabora con Ciénaga de Oro, Córboda, y con la Junta Cívica Pro Semana Santa del mismo municipio en la formulación del Plan Especial de Salvaguardia (PES) para la manifestación “Tradición y creación en la celebración popular de la Semana Santa
LOCATION:Sala de Exposiciones, Edificio Julio Mario Santo Domingo, Universidad de los Andes
END:VEVENT
END:VCALENDAR
