BEGIN:VCALENDAR
VERSION:2.0
PRODID:-//Centro de Investigación y Creación - Facultad de Artes y Humanidades - Universidad de los Andes
CALSCALE:GREGORIAN
METHOD:PUBLISH
X-WR-CALNAME:Centro de Investigación y Creación - Facultad de Artes y Humanidades - Universidad de los Andes
X-ORIGINAL-URL:https://cic.uniandes.edu.co/evento/viernes-de-modelo-cienaga-de-oro/
X-WR-CALDESC:Viernes de Modelo con personajes de la Semana Santa de Ciénaga de Oro
BEGIN:VEVENT
DTSTART:20190301T140000
DTEND:20190301T170000
SUMMARY:Viernes de Modelo con personajes de la Semana Santa de Ciénaga de Oro
DESCRIPTION:
LOCATION:Sala de Exposiciones, Edificio Julio Mario Santo Domingo, Universidad de los Andes
END:VEVENT
END:VCALENDAR
