BEGIN:VCALENDAR
VERSION:2.0
PRODID:-//Centro de Investigación y Creación - Facultad de Artes y Humanidades - Universidad de los Andes
CALSCALE:GREGORIAN
METHOD:PUBLISH
X-WR-CALNAME:Centro de Investigación y Creación - Facultad de Artes y Humanidades - Universidad de los Andes
X-ORIGINAL-URL:https://cic.uniandes.edu.co/evento/gato-por-liebre/
X-WR-CALDESC:Gato por Liebre en ceniza | Exposición Ciénaga de Oro
BEGIN:VEVENT
DTSTART:20190304T140000
DTEND:20190304T180000
SUMMARY:Gato por Liebre en ceniza | Exposición Ciénaga de Oro
DESCRIPTION:royecto de intercambio de imágenes a partir del archivo de Gráficas Molinari. Intercambiamos láminas originales por fotografías, libros, ilustraciones, collages, objetos y curiosidades.
LOCATION:Sala de Exposiciones, Edificio Julio Mario Santo Domingo, Universidad de los Andes
END:VEVENT
END:VCALENDAR
