BEGIN:VCALENDAR
VERSION:2.0
PRODID:-//Centro de Investigación y Creación - Facultad de Artes y Humanidades - Universidad de los Andes
CALSCALE:GREGORIAN
METHOD:PUBLISH
X-WR-CALNAME:Centro de Investigación y Creación - Facultad de Artes y Humanidades - Universidad de los Andes
X-ORIGINAL-URL:https://cic.uniandes.edu.co/evento/orquesta-andes-febrero2019/
X-WR-CALDESC:Concierto de la Orquesta de los Andes
BEGIN:VEVENT
DTSTART:20190226T190000
DTEND:
SUMMARY:Concierto de la Orquesta de los Andes
DESCRIPTION:El concierto será el martes 26 de febrero en el Auditorio Mario Laserna.
LOCATION:
END:VEVENT
END:VCALENDAR
