BEGIN:VCALENDAR
VERSION:2.0
PRODID:-//Centro de Investigación y Creación - Facultad de Artes y Humanidades - Universidad de los Andes
CALSCALE:GREGORIAN
METHOD:PUBLISH
X-WR-CALNAME:Centro de Investigación y Creación - Facultad de Artes y Humanidades - Universidad de los Andes
X-ORIGINAL-URL:https://cic.uniandes.edu.co/evento/taller-formacion-e-industrias-creativas/
X-WR-CALDESC:Taller Formación e Industrias Creativas
BEGIN:VEVENT
DTSTART:20190320T083000
DTEND:20190320T170000
SUMMARY:Taller Formación e Industrias Creativas
DESCRIPTION:
LOCATION:Auditorio Felix Restrepo, S.J.
END:VEVENT
END:VCALENDAR
