BEGIN:VCALENDAR
VERSION:2.0
PRODID:-//Centro de Investigación y Creación - Facultad de Artes y Humanidades - Universidad de los Andes
CALSCALE:GREGORIAN
METHOD:PUBLISH
X-WR-CALNAME:Centro de Investigación y Creación - Facultad de Artes y Humanidades - Universidad de los Andes
X-ORIGINAL-URL:https://cic.uniandes.edu.co/evento/charla-historiar-fotografias-una-investigacion-de-john-mraz/
X-WR-CALDESC:Charla &#8211; Historiar fotografías, una investigación de John Mraz
BEGIN:VEVENT
DTSTART:20190411T170000
DTEND:20190411T060000
SUMMARY:Charla &#8211; Historiar fotografías, una investigación de John Mraz
DESCRIPTION:
LOCATION:Edificio Mario Laserna, Auditorio ML-C. Universidad de los Andes, Bogotá.
END:VEVENT
END:VCALENDAR
