BEGIN:VCALENDAR
VERSION:2.0
PRODID:-//Centro de Investigación y Creación - Facultad de Artes y Humanidades - Universidad de los Andes
CALSCALE:GREGORIAN
METHOD:PUBLISH
X-WR-CALNAME:Centro de Investigación y Creación - Facultad de Artes y Humanidades - Universidad de los Andes
X-ORIGINAL-URL:https://cic.uniandes.edu.co/evento/por-el-barrio-de-adilia-lopes/
X-WR-CALDESC:Por el barrio de Adília Lopes
BEGIN:VEVENT
DTSTART:20190430T080000
DTEND:20190430T130000
SUMMARY:Por el barrio de Adília Lopes
DESCRIPTION:Coloquio internacional Por el barrio de Adília Lopes
LOCATION:Ediﬁcio Mario Laserna, Auditorio ML - C, Universidad de los Andes
END:VEVENT
END:VCALENDAR
