BEGIN:VCALENDAR
VERSION:2.0
PRODID:-//Centro de Investigación y Creación - Facultad de Artes y Humanidades - Universidad de los Andes
CALSCALE:GREGORIAN
METHOD:PUBLISH
X-WR-CALNAME:Centro de Investigación y Creación - Facultad de Artes y Humanidades - Universidad de los Andes
X-ORIGINAL-URL:https://cic.uniandes.edu.co/evento/encuentros-cic-de-artes-y-humanidades-2019/
X-WR-CALDESC:Encuentros CIC de artes y humanidades 2019
BEGIN:VEVENT
DTSTART:20190509T083000
DTEND:20190509T180000
SUMMARY:Encuentros CIC de artes y humanidades 2019
DESCRIPTION:Es un espacio de divulgación de la investigación y la creación de nuestros profesores y estudiantes. Jueves 9 de mayo, de 8:30 a.m. a 6:00 p.m.
LOCATION:Hemiciclo 001, Edificio Lleras. Universidad de los Andes, Bogotá.
END:VEVENT
END:VCALENDAR
