BEGIN:VCALENDAR
VERSION:2.0
PRODID:-//Centro de Investigación y Creación - Facultad de Artes y Humanidades - Universidad de los Andes
CALSCALE:GREGORIAN
METHOD:PUBLISH
X-WR-CALNAME:Centro de Investigación y Creación - Facultad de Artes y Humanidades - Universidad de los Andes
X-ORIGINAL-URL:https://cic.uniandes.edu.co/evento/pensamiento-palabra-obra-y-colacion/
X-WR-CALDESC:Miércoles de pensamiento, palabra, obra y colación
BEGIN:VEVENT
DTSTART:20190828T123000
DTEND:20190828T140000
SUMMARY:Miércoles de pensamiento, palabra, obra y colación
DESCRIPTION:
LOCATION:
END:VEVENT
END:VCALENDAR
