BEGIN:VCALENDAR
VERSION:2.0
PRODID:-//Centro de Investigación y Creación - Facultad de Artes y Humanidades - Universidad de los Andes
CALSCALE:GREGORIAN
METHOD:PUBLISH
X-WR-CALNAME:Centro de Investigación y Creación - Facultad de Artes y Humanidades - Universidad de los Andes
X-ORIGINAL-URL:https://cic.uniandes.edu.co/evento/primer-encuentro-nacional-de-facultades-de-artes/
X-WR-CALDESC:Primer Encuentro nacional de Facultades de Artes
BEGIN:VEVENT
DTSTART:20190919T000000
DTEND:20190920T000000
SUMMARY:Primer Encuentro nacional de Facultades de Artes
DESCRIPTION:
LOCATION:Facultad de Bellas Artes y Humanidades, Cra. 27 #10-02, Edificio Nº 12 / Of: 305, Pereira, Risaralda
END:VEVENT
END:VCALENDAR
