BEGIN:VCALENDAR
VERSION:2.0
PRODID:-//Centro de Investigación y Creación - Facultad de Artes y Humanidades - Universidad de los Andes
CALSCALE:GREGORIAN
METHOD:PUBLISH
X-WR-CALNAME:Centro de Investigación y Creación - Facultad de Artes y Humanidades - Universidad de los Andes
X-ORIGINAL-URL:https://cic.uniandes.edu.co/evento/encuentros-cic-de-artes-y-humanidades/
X-WR-CALDESC:Encuentros del Centro de Investigación y Creación
BEGIN:VEVENT
DTSTART:20190926T084500
DTEND:20190926T170000
SUMMARY:Encuentros del Centro de Investigación y Creación
DESCRIPTION:Conozca los proyectos en que están trabajando algunos de nuestros profesores el 26 de septiembre desde las 8:45 a.m. Entrada libre hasta completar aforo.
LOCATION:Universidad de los Andes, Bogotá
END:VEVENT
END:VCALENDAR
