BEGIN:VCALENDAR
VERSION:2.0
PRODID:-//Centro de Investigación y Creación - Facultad de Artes y Humanidades - Universidad de los Andes
CALSCALE:GREGORIAN
METHOD:PUBLISH
X-WR-CALNAME:Centro de Investigación y Creación - Facultad de Artes y Humanidades - Universidad de los Andes
X-ORIGINAL-URL:https://cic.uniandes.edu.co/evento/caribe-en-los-andes/
X-WR-CALDESC:Caribe en Los Andes
BEGIN:VEVENT
DTSTART:20191007T000000
DTEND:20191011T000000
SUMMARY:Caribe en Los Andes
DESCRIPTION:La Facultad de Artes y Humanidades participará con proyectos de profesores y estudiantes en charlas, talleres, conciertos y exposiciones. Del 7 al 11 de octubre, prográmese aquí.
LOCATION:Universidad de los Andes, Bogotá
END:VEVENT
END:VCALENDAR
