BEGIN:VCALENDAR
VERSION:2.0
PRODID:-//Centro de Investigación y Creación - Facultad de Artes y Humanidades - Universidad de los Andes
CALSCALE:GREGORIAN
METHOD:PUBLISH
X-WR-CALNAME:Centro de Investigación y Creación - Facultad de Artes y Humanidades - Universidad de los Andes
X-ORIGINAL-URL:https://cic.uniandes.edu.co/evento/lanzamiento-de-la-biblioteca-digital-de-soledad-acosta-de-samper/
X-WR-CALDESC:Lanzamiento de la biblioteca digital de Soledad Acosta de Samper
BEGIN:VEVENT
DTSTART:20191024T170000
DTEND:20191024T190000
SUMMARY:Lanzamiento de la biblioteca digital de Soledad Acosta de Samper
DESCRIPTION:
LOCATION:
END:VEVENT
END:VCALENDAR
