BEGIN:VCALENDAR
VERSION:2.0
PRODID:-//Centro de Investigación y Creación - Facultad de Artes y Humanidades - Universidad de los Andes
CALSCALE:GREGORIAN
METHOD:PUBLISH
X-WR-CALNAME:Centro de Investigación y Creación - Facultad de Artes y Humanidades - Universidad de los Andes
X-ORIGINAL-URL:https://cic.uniandes.edu.co/evento/exhibicion-y-venta-en-el-centro-del-japon/
X-WR-CALDESC:Exhibición y Venta en el Centro del Japón
BEGIN:VEVENT
DTSTART:20191024T110000
DTEND:20191024T160000
SUMMARY:Exhibición y Venta en el Centro del Japón
DESCRIPTION:
LOCATION:Centro del Japón - Universidad de los Andes; Bogotá
END:VEVENT
END:VCALENDAR
