BEGIN:VCALENDAR
VERSION:2.0
PRODID:-//Centro de Investigación y Creación - Facultad de Artes y Humanidades - Universidad de los Andes
CALSCALE:GREGORIAN
METHOD:PUBLISH
X-WR-CALNAME:Centro de Investigación y Creación - Facultad de Artes y Humanidades - Universidad de los Andes
X-ORIGINAL-URL:https://cic.uniandes.edu.co/evento/evento-cic/
X-WR-CALDESC:Evento del Centro de Investigación y Creación &#8211; CIC
BEGIN:VEVENT
DTSTART:20191107T153000
DTEND:20191107T190000
SUMMARY:Evento del Centro de Investigación y Creación &#8211; CIC
DESCRIPTION:Lanzamiento de la Gaceta CIC, presentación del documental Cinta Amarilla y conversatorio moderado por Maria Emma Wills. Tendrá lugar el jueves 7 de noviembre a las 3:30 p.m.
LOCATION:Auditorio Lleras, Universidad de los Andes, Bogotá
END:VEVENT
END:VCALENDAR
