BEGIN:VCALENDAR
VERSION:2.0
PRODID:-//Centro de Investigación y Creación - Facultad de Artes y Humanidades - Universidad de los Andes
CALSCALE:GREGORIAN
METHOD:PUBLISH
X-WR-CALNAME:Centro de Investigación y Creación - Facultad de Artes y Humanidades - Universidad de los Andes
X-ORIGINAL-URL:https://cic.uniandes.edu.co/evento/la-fiesta-de-el-bobo-2/
X-WR-CALDESC:La fiesta de El Bobo
BEGIN:VEVENT
DTSTART:20191114T150000
DTEND:20181122T170000
SUMMARY:La fiesta de El Bobo
DESCRIPTION:La facultad de Ingeniería organiza la fiesta de San Alberto Magno, El Bobo en Uniandes
LOCATION:Plazoleta del Bobo, Universidad de los Andes
END:VEVENT
END:VCALENDAR
