BEGIN:VCALENDAR
VERSION:2.0
PRODID:-//Centro de Investigación y Creación - Facultad de Artes y Humanidades - Universidad de los Andes
CALSCALE:GREGORIAN
METHOD:PUBLISH
X-WR-CALNAME:Centro de Investigación y Creación - Facultad de Artes y Humanidades - Universidad de los Andes
X-ORIGINAL-URL:https://cic.uniandes.edu.co/evento/lanzamiento-de-la-biblioteca-digital-de-bogota/
X-WR-CALDESC:Lanzamiento de la Biblioteca Digital de Bogotá
BEGIN:VEVENT
DTSTART:20191113T000000
DTEND:20191113T000000
SUMMARY:Lanzamiento de la Biblioteca Digital de Bogotá
DESCRIPTION:Es un canal de acceso abierto, remoto y público a diversos tipos de contenidos, seleccionados y organizados en diferentes áreas del conocimiento por bibliotecarios, mediadores culturales y habitantes de la ciudad.
LOCATION:Biblioteca Pública Virgilio Barco, Avenida Carrera 60 No. 57 - 60, Bogotá
END:VEVENT
END:VCALENDAR
