BEGIN:VCALENDAR
VERSION:2.0
PRODID:-//Centro de Investigación y Creación - Facultad de Artes y Humanidades - Universidad de los Andes
CALSCALE:GREGORIAN
METHOD:PUBLISH
X-WR-CALNAME:Centro de Investigación y Creación - Facultad de Artes y Humanidades - Universidad de los Andes
X-ORIGINAL-URL:https://cic.uniandes.edu.co/evento/exposicion-hombre-dorado/
X-WR-CALDESC:Exposición: Hombre Dorado
BEGIN:VEVENT
DTSTART:20200302T000000
DTEND:20200306T000000
SUMMARY:Exposición: Hombre Dorado
DESCRIPTION:El profesor Santiago Forero, del Departamento de Arte, trae una muestra de su obra Hombre Dorado, enmarcada en su proyecto FAPA. Hombre Dorado es un proyecto audiovisual y fotográfico que explora la representación del cuerpo
LOCATION:Área Bambú SD (7mo piso)., Universidad de los Andes, Bogotá
END:VEVENT
END:VCALENDAR
