BEGIN:VCALENDAR
VERSION:2.0
PRODID:-//Centro de Investigación y Creación - Facultad de Artes y Humanidades - Universidad de los Andes
CALSCALE:GREGORIAN
METHOD:PUBLISH
X-WR-CALNAME:Centro de Investigación y Creación - Facultad de Artes y Humanidades - Universidad de los Andes
X-ORIGINAL-URL:https://cic.uniandes.edu.co/evento/concierto-de-cierre-de-la-semana-musicas-del-caribe/
X-WR-CALDESC:Concierto de cierre de la Semana: músicas del Caribe
BEGIN:VEVENT
DTSTART:20200306T170000
DTEND:20200306T180000
SUMMARY:Concierto de cierre de la Semana: músicas del Caribe
DESCRIPTION:Concierto de cierre de la Semana de las Artes y las Humanidades 2020 de la Universidad de los Andes a cargo del Ensamble de músicas del Caribe
LOCATION:Terraza TX, Universidad de los Andes
END:VEVENT
END:VCALENDAR
