BEGIN:VCALENDAR
VERSION:2.0
PRODID:-//Centro de Investigación y Creación - Facultad de Artes y Humanidades - Universidad de los Andes
CALSCALE:GREGORIAN
METHOD:PUBLISH
X-WR-CALNAME:Centro de Investigación y Creación - Facultad de Artes y Humanidades - Universidad de los Andes
X-ORIGINAL-URL:https://cic.uniandes.edu.co/evento/improvisacion-pianos/
X-WR-CALDESC:Improvisación a dos pianos
BEGIN:VEVENT
DTSTART:20200303T180000
DTEND:20200303T193000
SUMMARY:Improvisación a dos pianos
DESCRIPTION:Improvisación a dos pianos con Adrian Herrera y Mauricio Arias en el marco de la Semana de las Artes y las Humanidades 2020 de la Universidad de los Andes
LOCATION:Sala de Música Ernesto Martin, Universidad de los Andes, Bogotá
END:VEVENT
END:VCALENDAR
