BEGIN:VCALENDAR
VERSION:2.0
PRODID:-//Centro de Investigación y Creación - Facultad de Artes y Humanidades - Universidad de los Andes
CALSCALE:GREGORIAN
METHOD:PUBLISH
X-WR-CALNAME:Centro de Investigación y Creación - Facultad de Artes y Humanidades - Universidad de los Andes
X-ORIGINAL-URL:https://cic.uniandes.edu.co/evento/podcast-en-vivo-shots-de-ciencia/
X-WR-CALDESC:Podcast en vivo: Shots de Ciencia
BEGIN:VEVENT
DTSTART:20200305T150000
DTEND:20200305T163000
SUMMARY:Podcast en vivo: Shots de Ciencia
DESCRIPTION:
LOCATION:Área de bambú, 7mo piso SD, Universidad de los Andes
END:VEVENT
END:VCALENDAR
