BEGIN:VCALENDAR
VERSION:2.0
PRODID:-//Centro de Investigación y Creación - Facultad de Artes y Humanidades - Universidad de los Andes
CALSCALE:GREGORIAN
METHOD:PUBLISH
X-WR-CALNAME:Centro de Investigación y Creación - Facultad de Artes y Humanidades - Universidad de los Andes
X-ORIGINAL-URL:https://cic.uniandes.edu.co/evento/recital-abierto-de-poesia/
X-WR-CALDESC:Recital abierto de poesía
BEGIN:VEVENT
DTSTART:20200304T140000
DTEND:20200304T160000
SUMMARY:Recital abierto de poesía
DESCRIPTION:
LOCATION:Plazoleta Richard, Universidad de los Andes, Bogotá
END:VEVENT
END:VCALENDAR
