BEGIN:VCALENDAR
VERSION:2.0
PRODID:-//Centro de Investigación y Creación - Facultad de Artes y Humanidades - Universidad de los Andes
CALSCALE:GREGORIAN
METHOD:PUBLISH
X-WR-CALNAME:Centro de Investigación y Creación - Facultad de Artes y Humanidades - Universidad de los Andes
X-ORIGINAL-URL:https://cic.uniandes.edu.co/evento/quema-experimental-de-ceramica-raku/
X-WR-CALDESC:Quema experimental de cerámica Rakú
BEGIN:VEVENT
DTSTART:20200306T080000
DTEND:20200306T120000
SUMMARY:Quema experimental de cerámica Rakú
DESCRIPTION:La quema de cerámica en técnica Rakú alude a una actividad de transformación a partir de los elementos de la naturaleza: tierra, fuego, aire, agua. Esta técnica es de origen Japonés.
LOCATION:Plazoleta Richard, Universidad de los Andes, Bogotá
END:VEVENT
END:VCALENDAR
