BEGIN:VCALENDAR
VERSION:2.0
PRODID:-//Centro de Investigación y Creación - Facultad de Artes y Humanidades - Universidad de los Andes
CALSCALE:GREGORIAN
METHOD:PUBLISH
X-WR-CALNAME:Centro de Investigación y Creación - Facultad de Artes y Humanidades - Universidad de los Andes
X-ORIGINAL-URL:https://cic.uniandes.edu.co/evento/taller-de-dibujo-para-dibujantes-y-no-dibujantes/
X-WR-CALDESC:Taller de dibujo para dibujantes y no dibujantes
BEGIN:VEVENT
DTSTART:20200303T113000
DTEND:20200303T140000
SUMMARY:Taller de dibujo para dibujantes y no dibujantes
DESCRIPTION:El taller explorará las habilidades que cada uno tiene para dibujar y para copiar los dibujos de los demás, sin necesidad de saber hacerlo.
LOCATION:Universidad de los Andes Edificio S1, salón 302
END:VEVENT
END:VCALENDAR
