BEGIN:VCALENDAR
VERSION:2.0
PRODID:-//Centro de Investigación y Creación - Facultad de Artes y Humanidades - Universidad de los Andes
CALSCALE:GREGORIAN
METHOD:PUBLISH
X-WR-CALNAME:Centro de Investigación y Creación - Facultad de Artes y Humanidades - Universidad de los Andes
X-ORIGINAL-URL:https://cic.uniandes.edu.co/evento/open-day-de-posgrados-2020/
X-WR-CALDESC:Open Day de posgrados
BEGIN:VEVENT
DTSTART:20200318T173000
DTEND:20200318T200000
SUMMARY:Open Day de posgrados
DESCRIPTION:
LOCATION:Universidad de los Andes, Bogotá
END:VEVENT
END:VCALENDAR
