BEGIN:VCALENDAR
VERSION:2.0
PRODID:-//Centro de Investigación y Creación - Facultad de Artes y Humanidades - Universidad de los Andes
CALSCALE:GREGORIAN
METHOD:PUBLISH
X-WR-CALNAME:Centro de Investigación y Creación - Facultad de Artes y Humanidades - Universidad de los Andes
X-ORIGINAL-URL:https://cic.uniandes.edu.co/evento/teatro-la-mas-fuerte/
X-WR-CALDESC:Obra de teatro: La más fuerte
BEGIN:VEVENT
DTSTART:20200305T140000
DTEND:20200305T150000
SUMMARY:Obra de teatro: La más fuerte
DESCRIPTION:
LOCATION:Salón Intermedial TX 103, Universidad de los Andes
END:VEVENT
END:VCALENDAR
