BEGIN:VCALENDAR
VERSION:2.0
PRODID:-//Centro de Investigación y Creación - Facultad de Artes y Humanidades - Universidad de los Andes
CALSCALE:GREGORIAN
METHOD:PUBLISH
X-WR-CALNAME:Centro de Investigación y Creación - Facultad de Artes y Humanidades - Universidad de los Andes
X-ORIGINAL-URL:https://cic.uniandes.edu.co/evento/conversatorio-sobre-takeshi-kitano-dir-de-zatoichi-2003/
X-WR-CALDESC:Conversatorio sobre Takeshi Kitano, dir. de Zatoichi (2003)
BEGIN:VEVENT
DTSTART:20200305T170000
DTEND:20200305T180000
SUMMARY:Conversatorio sobre Takeshi Kitano, dir. de Zatoichi (2003)
DESCRIPTION:Hablemos de Takeshi Kitano. Este es un espacio que invita a conversar sobre Takeshi Kitano como un personaje de la cultura popular
LOCATION:Sala multiple UME – Centro del Japón, Universidad de los Andes
END:VEVENT
END:VCALENDAR
