BEGIN:VCALENDAR
VERSION:2.0
PRODID:-//Centro de Investigación y Creación - Facultad de Artes y Humanidades - Universidad de los Andes
CALSCALE:GREGORIAN
METHOD:PUBLISH
X-WR-CALNAME:Centro de Investigación y Creación - Facultad de Artes y Humanidades - Universidad de los Andes
X-ORIGINAL-URL:https://cic.uniandes.edu.co/evento/proyeccion-de-zatoichi-2003/
X-WR-CALDESC:Proyección de Zatoichi (2003) de Takeshi Kitano
BEGIN:VEVENT
DTSTART:20200305T180000
DTEND:20200305T203000
SUMMARY:Proyección de Zatoichi (2003) de Takeshi Kitano
DESCRIPTION:Proyección de la película Zatoichi (2003), de Takeshi Kitano. Escrita, dirigida y protagonizada por Takeshi Kitano
LOCATION:Sala Ume del Centro del Japón
END:VEVENT
END:VCALENDAR
