BEGIN:VCALENDAR
VERSION:2.0
PRODID:-//Centro de Investigación y Creación - Facultad de Artes y Humanidades - Universidad de los Andes
CALSCALE:GREGORIAN
METHOD:PUBLISH
X-WR-CALNAME:Centro de Investigación y Creación - Facultad de Artes y Humanidades - Universidad de los Andes
X-ORIGINAL-URL:https://cic.uniandes.edu.co/evento/taller-introduccion-al-escenario/
X-WR-CALDESC:Taller: introducción al escenario
BEGIN:VEVENT
DTSTART:20200306T140000
DTEND:20200306T153000
SUMMARY:Taller: introducción al escenario
DESCRIPTION:El taller empieza con una breve introducción a los viewpoints, que sirve como calentamiento y activación corporal.
LOCATION:Salón Intermedial, TX-104, Universidad de los Andes
END:VEVENT
END:VCALENDAR
